BEGIN:VCALENDAR
VERSION:2.0
PRODID:-//Charles R Vineyards - ECPv6.15.20//NONSGML v1.0//EN
CALSCALE:GREGORIAN
METHOD:PUBLISH
X-WR-CALNAME:Charles R Vineyards
X-ORIGINAL-URL:https://charlesrwinery.com
X-WR-CALDESC:Events for Charles R Vineyards
REFRESH-INTERVAL;VALUE=DURATION:PT1H
X-Robots-Tag:noindex
X-PUBLISHED-TTL:PT1H
BEGIN:VTIMEZONE
TZID:America/Los_Angeles
BEGIN:DAYLIGHT
TZOFFSETFROM:-0800
TZOFFSETTO:-0700
TZNAME:PDT
DTSTART:20250309T100000
END:DAYLIGHT
BEGIN:STANDARD
TZOFFSETFROM:-0700
TZOFFSETTO:-0800
TZNAME:PST
DTSTART:20251102T090000
END:STANDARD
BEGIN:DAYLIGHT
TZOFFSETFROM:-0800
TZOFFSETTO:-0700
TZNAME:PDT
DTSTART:20260308T100000
END:DAYLIGHT
BEGIN:STANDARD
TZOFFSETFROM:-0700
TZOFFSETTO:-0800
TZNAME:PST
DTSTART:20261101T090000
END:STANDARD
BEGIN:DAYLIGHT
TZOFFSETFROM:-0800
TZOFFSETTO:-0700
TZNAME:PDT
DTSTART:20270314T100000
END:DAYLIGHT
BEGIN:STANDARD
TZOFFSETFROM:-0700
TZOFFSETTO:-0800
TZNAME:PST
DTSTART:20271107T090000
END:STANDARD
END:VTIMEZONE
BEGIN:VEVENT
DTSTART;TZID=America/Los_Angeles:20260321T140000
DTEND;TZID=America/Los_Angeles:20260321T160000
DTSTAMP:20260423T055237
CREATED:20260305T003641Z
LAST-MODIFIED:20260311T010745Z
UID:3822-1774101600-1774108800@charlesrwinery.com
SUMMARY:Meet Julio\, Winegrowing Legend
DESCRIPTION:Discover Livermore’s wine and vineyard history\, get insights on grape growing\, and hear Julio’s inspiring journey from farmer to industry leader. Ask questions and learn what the future holds for Livermore wine.  A flight of “Julio’s” Wines and small bites is included with your ticket. \n\n\n\n \n\n\n\n \n\n\n\n \n\n\n\n\nPurchase Tickets Here
URL:https://charlesrwinery.com/event/wine-and-chocolate-pairing-experience-2/
ATTACH;FMTTYPE=image/jpeg:https://charlesrwinery.com/wp-content/uploads/2026/03/Meet-Livermores-Favorite-Winegrower-Julio-Covarrubias-1.jpg
END:VEVENT
END:VCALENDAR