BEGIN:VCALENDAR
VERSION:2.0
PRODID:-//Charles R Vineyards - ECPv6.15.20//NONSGML v1.0//EN
CALSCALE:GREGORIAN
METHOD:PUBLISH
X-WR-CALNAME:Charles R Vineyards
X-ORIGINAL-URL:https://charlesrwinery.com
X-WR-CALDESC:Events for Charles R Vineyards
REFRESH-INTERVAL;VALUE=DURATION:PT1H
X-Robots-Tag:noindex
X-PUBLISHED-TTL:PT1H
BEGIN:VTIMEZONE
TZID:America/Los_Angeles
BEGIN:DAYLIGHT
TZOFFSETFROM:-0800
TZOFFSETTO:-0700
TZNAME:PDT
DTSTART:20250309T100000
END:DAYLIGHT
BEGIN:STANDARD
TZOFFSETFROM:-0700
TZOFFSETTO:-0800
TZNAME:PST
DTSTART:20251102T090000
END:STANDARD
BEGIN:DAYLIGHT
TZOFFSETFROM:-0800
TZOFFSETTO:-0700
TZNAME:PDT
DTSTART:20260308T100000
END:DAYLIGHT
BEGIN:STANDARD
TZOFFSETFROM:-0700
TZOFFSETTO:-0800
TZNAME:PST
DTSTART:20261101T090000
END:STANDARD
BEGIN:DAYLIGHT
TZOFFSETFROM:-0800
TZOFFSETTO:-0700
TZNAME:PDT
DTSTART:20270314T100000
END:DAYLIGHT
BEGIN:STANDARD
TZOFFSETFROM:-0700
TZOFFSETTO:-0800
TZNAME:PST
DTSTART:20271107T090000
END:STANDARD
END:VTIMEZONE
BEGIN:VEVENT
DTSTART;TZID=America/Los_Angeles:20260404T130000
DTEND;TZID=America/Los_Angeles:20260404T160000
DTSTAMP:20260423T042139
CREATED:20260305T185211Z
LAST-MODIFIED:20260402T233807Z
UID:3830-1775307600-1775318400@charlesrwinery.com
SUMMARY:Ukulele Jam & Open Mic - w/Steve Kritzer
DESCRIPTION:Come join Steve Kritzer\, singer-songwriter\, multi-instrumentalist and popular ukulele teacher for our  \n\n\n\nRelax on the garden patio in an informal friendly setting\, nestled among oak trees in the Livermore hills. The only requirement is a ukulele and knowledge of a few basic chords or just come to listen and sing along. Music includes everything from Tin Pan Alley to Classic Rock\, to favorite pop songs\, Hawaiian and more. An Open Mic session will give those with more expertise a chance to strut their stuff! \n\n\n\nPack a picnic lunch and join us on the patio! \n\n\n\nReservations are not required! \n\n\n\nClick here for 2026 Part 1 Songbook \n\n\n\nClick here for 2026 Part 2 Songbook \n\n\n\nClick here for the 2025 Supplement Song List
URL:https://charlesrwinery.com/event/ukulele-jam-open-mic-w-steve-kritzer-11/
ATTACH;FMTTYPE=image/jpeg:https://charlesrwinery.com/wp-content/uploads/2026/03/Ukulele-Jam-and-Open-Mic.jpg
END:VEVENT
END:VCALENDAR