BEGIN:VCALENDAR
VERSION:2.0
PRODID:-//Charles R Vineyards - ECPv6.15.20//NONSGML v1.0//EN
CALSCALE:GREGORIAN
METHOD:PUBLISH
X-ORIGINAL-URL:https://charlesrwinery.com
X-WR-CALDESC:Events for Charles R Vineyards
REFRESH-INTERVAL;VALUE=DURATION:PT1H
X-Robots-Tag:noindex
X-PUBLISHED-TTL:PT1H
BEGIN:VTIMEZONE
TZID:America/Los_Angeles
BEGIN:DAYLIGHT
TZOFFSETFROM:-0800
TZOFFSETTO:-0700
TZNAME:PDT
DTSTART:20250309T100000
END:DAYLIGHT
BEGIN:STANDARD
TZOFFSETFROM:-0700
TZOFFSETTO:-0800
TZNAME:PST
DTSTART:20251102T090000
END:STANDARD
BEGIN:DAYLIGHT
TZOFFSETFROM:-0800
TZOFFSETTO:-0700
TZNAME:PDT
DTSTART:20260308T100000
END:DAYLIGHT
BEGIN:STANDARD
TZOFFSETFROM:-0700
TZOFFSETTO:-0800
TZNAME:PST
DTSTART:20261101T090000
END:STANDARD
BEGIN:DAYLIGHT
TZOFFSETFROM:-0800
TZOFFSETTO:-0700
TZNAME:PDT
DTSTART:20270314T100000
END:DAYLIGHT
BEGIN:STANDARD
TZOFFSETFROM:-0700
TZOFFSETTO:-0800
TZNAME:PST
DTSTART:20271107T090000
END:STANDARD
END:VTIMEZONE
BEGIN:VEVENT
DTSTART;TZID=America/Los_Angeles:20260405T120000
DTEND;TZID=America/Los_Angeles:20260405T163000
DTSTAMP:20260423T040912
CREATED:20260405T151030Z
LAST-MODIFIED:20260405T151034Z
UID:3880-1775390400-1775406600@charlesrwinery.com
SUMMARY:Closed for Easter!
DESCRIPTION:
URL:https://charlesrwinery.com/event/closed-for-easter/
ATTACH;FMTTYPE=image/png:https://charlesrwinery.com/wp-content/uploads/2026/04/Your-paragraph-text.png
END:VEVENT
END:VCALENDAR