BEGIN:VCALENDAR
VERSION:2.0
PRODID:-//Charles R Vineyards - ECPv6.15.20//NONSGML v1.0//EN
CALSCALE:GREGORIAN
METHOD:PUBLISH
X-WR-CALNAME:Charles R Vineyards
X-ORIGINAL-URL:https://charlesrwinery.com
X-WR-CALDESC:Events for Charles R Vineyards
REFRESH-INTERVAL;VALUE=DURATION:PT1H
X-Robots-Tag:noindex
X-PUBLISHED-TTL:PT1H
BEGIN:VTIMEZONE
TZID:America/Los_Angeles
BEGIN:DAYLIGHT
TZOFFSETFROM:-0800
TZOFFSETTO:-0700
TZNAME:PDT
DTSTART:20250309T100000
END:DAYLIGHT
BEGIN:STANDARD
TZOFFSETFROM:-0700
TZOFFSETTO:-0800
TZNAME:PST
DTSTART:20251102T090000
END:STANDARD
BEGIN:DAYLIGHT
TZOFFSETFROM:-0800
TZOFFSETTO:-0700
TZNAME:PDT
DTSTART:20260308T100000
END:DAYLIGHT
BEGIN:STANDARD
TZOFFSETFROM:-0700
TZOFFSETTO:-0800
TZNAME:PST
DTSTART:20261101T090000
END:STANDARD
BEGIN:DAYLIGHT
TZOFFSETFROM:-0800
TZOFFSETTO:-0700
TZNAME:PDT
DTSTART:20270314T100000
END:DAYLIGHT
BEGIN:STANDARD
TZOFFSETFROM:-0700
TZOFFSETTO:-0800
TZNAME:PST
DTSTART:20271107T090000
END:STANDARD
END:VTIMEZONE
BEGIN:VEVENT
DTSTART;TZID=America/Los_Angeles:20260425T093000
DTEND;TZID=America/Los_Angeles:20260425T123000
DTSTAMP:20260423T041539
CREATED:20260402T150504Z
LAST-MODIFIED:20260402T150643Z
UID:3870-1777109400-1777120200@charlesrwinery.com
SUMMARY:Reins in Motion Benefit Wine & Hike
DESCRIPTION:Join the Reins In Motion Foundation for a Fundraising Wine Hike.  \n\n\n\nQuestions: Contact Jesse at 510-295-5365 or jjarvis1982@gmail.com \n\n\n\nCost: $55 per person. Food by Melyna’s Mexican Food (for purchase) and live music by Loren O from12:00 pm to 4:30 PM \n\n\n\n \n\n\n\nRegister Here
URL:https://charlesrwinery.com/event/reins-in-motion-benefit-2/
ATTACH;FMTTYPE=image/webp:https://charlesrwinery.com/wp-content/uploads/2026/04/2026-wine-hike-flyer-gr.webp
END:VEVENT
BEGIN:VEVENT
DTSTART;TZID=America/Los_Angeles:20260502T130000
DTEND;TZID=America/Los_Angeles:20260502T160000
DTSTAMP:20260423T041539
CREATED:20260412T151730Z
LAST-MODIFIED:20260412T151735Z
UID:3887-1777726800-1777737600@charlesrwinery.com
SUMMARY:Ukulele Jam & Open Mic - w/Steve Kritzer
DESCRIPTION:Come join Steve Kritzer\, singer-songwriter\, multi-instrumentalist and popular ukulele teacher for our  \n\n\n\nRelax on the garden patio in an informal friendly setting\, nestled among oak trees in the Livermore hills. The only requirement is a ukulele and knowledge of a few basic chords or just come to listen and sing along. Music includes everything from Tin Pan Alley to Classic Rock\, to favorite pop songs\, Hawaiian and more. An Open Mic session will give those with more expertise a chance to strut their stuff! \n\n\n\nPack a picnic lunch and join us on the patio! \n\n\n\nReservations are not required! \n\n\n\nClick here for 2026 Part 1 Songbook \n\n\n\nClick here for 2026 Part 2 Songbook \n\n\n\nClick here for the 2025 Supplement Song List
URL:https://charlesrwinery.com/event/ukulele-jam-open-mic-w-steve-kritzer-12/
ATTACH;FMTTYPE=image/jpeg:https://charlesrwinery.com/wp-content/uploads/2026/03/Ukulele-Jam-and-Open-Mic.jpg
END:VEVENT
BEGIN:VEVENT
DTSTART;TZID=America/Los_Angeles:20260509T120000
DTEND;TZID=America/Los_Angeles:20260509T163000
DTSTAMP:20260423T041539
CREATED:20260412T152504Z
LAST-MODIFIED:20260412T152508Z
UID:3901-1778328000-1778344200@charlesrwinery.com
SUMMARY:Karaoke Saturday!
DESCRIPTION:Get ready to unleash your inner rock star at Karaoke Saturday! Doors swing open at noon. Rally your pals and prepare for a day packed with epic sing-alongs! And let’s be honest\, a glass of wine is the perfect sidekick for those high notes! No need to book a spot; just waltz in and let the fun begin!
URL:https://charlesrwinery.com/event/karaoke-saturday-9/
ATTACH;FMTTYPE=image/png:https://charlesrwinery.com/wp-content/uploads/2025/04/karaokesaturday.png
END:VEVENT
BEGIN:VEVENT
DTSTART;TZID=America/Los_Angeles:20260510T120000
DTEND;TZID=America/Los_Angeles:20260510T163000
DTSTAMP:20260423T041539
CREATED:20260413T030306Z
LAST-MODIFIED:20260413T030634Z
UID:3917-1778414400-1778430600@charlesrwinery.com
SUMMARY:Celebrate Mom!
DESCRIPTION:Join Us for a Special Day Honoring Moms \n\n\n\nThis Mother’s Day\, celebrate with us at Charles R Vineyards! Treat your mom to a relaxing afternoon on our beautiful garden patio. Reserve your table and bring a picnic to enjoy together in a picturesque setting. \n\n\n\nEvery mom will receive a complimentary rose from us as a token of appreciation. To make the day even more special\, we’re offering a 33% discount on our California Sparkling wine—perfect for toasting all the wonderful mothers. \n\n\n\nSpaces are limited\, so be sure to make your reservation soon. We look forward to sharing this memorable occasion with you and your family! \n\n\n\n\nBuy Tickets Here
URL:https://charlesrwinery.com/event/celebrate-mom/
ATTACH;FMTTYPE=image/png:https://charlesrwinery.com/wp-content/uploads/2026/04/mothersday.png
END:VEVENT
BEGIN:VEVENT
DTSTART;TZID=America/Los_Angeles:20260523T120000
DTEND;TZID=America/Los_Angeles:20260523T163000
DTSTAMP:20260423T041539
CREATED:20260413T032156Z
LAST-MODIFIED:20260414T040323Z
UID:3922-1779537600-1779553800@charlesrwinery.com
SUMMARY:May Bash & Pick-Up Party!
DESCRIPTION:We’re excited to invite everyone to our May Pick Up Party\, where we are shaking things up! \n\n\n\n﻿Enjoy live music by Spencer James and our latest Petite Sirah. \n\n\n\nBe part of this one-of-a-kind celebration! \n\n\n\nDoors open at Noon! \n\n\n\n\n\n\n\n\nScreenshot
URL:https://charlesrwinery.com/event/may-wine-club-bash-pick-up-party/
ATTACH;FMTTYPE=image/png:https://charlesrwinery.com/wp-content/uploads/2026/04/flowers.png
END:VEVENT
BEGIN:VEVENT
DTSTART;TZID=America/Los_Angeles:20260606T130000
DTEND;TZID=America/Los_Angeles:20260606T160000
DTSTAMP:20260423T041539
CREATED:20260412T151839Z
LAST-MODIFIED:20260412T151843Z
UID:3889-1780750800-1780761600@charlesrwinery.com
SUMMARY:Ukulele Jam & Open Mic - w/Steve Kritzer
DESCRIPTION:Come join Steve Kritzer\, singer-songwriter\, multi-instrumentalist and popular ukulele teacher for our  \n\n\n\nRelax on the garden patio in an informal friendly setting\, nestled among oak trees in the Livermore hills. The only requirement is a ukulele and knowledge of a few basic chords or just come to listen and sing along. Music includes everything from Tin Pan Alley to Classic Rock\, to favorite pop songs\, Hawaiian and more. An Open Mic session will give those with more expertise a chance to strut their stuff! \n\n\n\nPack a picnic lunch and join us on the patio! \n\n\n\nReservations are not required! \n\n\n\nClick here for 2026 Part 1 Songbook \n\n\n\nClick here for 2026 Part 2 Songbook \n\n\n\nClick here for the 2025 Supplement Song List
URL:https://charlesrwinery.com/event/ukulele-jam-open-mic-w-steve-kritzer-13/
ATTACH;FMTTYPE=image/jpeg:https://charlesrwinery.com/wp-content/uploads/2026/03/Ukulele-Jam-and-Open-Mic.jpg
END:VEVENT
BEGIN:VEVENT
DTSTART;TZID=America/Los_Angeles:20260613T120000
DTEND;TZID=America/Los_Angeles:20260613T163000
DTSTAMP:20260423T041539
CREATED:20260412T152550Z
LAST-MODIFIED:20260412T152554Z
UID:3903-1781352000-1781368200@charlesrwinery.com
SUMMARY:Karaoke Saturday!
DESCRIPTION:Get ready to unleash your inner rock star at Karaoke Saturday! Doors swing open at noon. Rally your pals and prepare for a day packed with epic sing-alongs! And let’s be honest\, a glass of wine is the perfect sidekick for those high notes! No need to book a spot; just waltz in and let the fun begin!
URL:https://charlesrwinery.com/event/karaoke-saturday-10/
ATTACH;FMTTYPE=image/png:https://charlesrwinery.com/wp-content/uploads/2025/04/karaokesaturday.png
END:VEVENT
BEGIN:VEVENT
DTSTART;TZID=America/Los_Angeles:20260704T130000
DTEND;TZID=America/Los_Angeles:20260704T160000
DTSTAMP:20260423T041539
CREATED:20260412T151936Z
LAST-MODIFIED:20260412T151940Z
UID:3891-1783170000-1783180800@charlesrwinery.com
SUMMARY:Ukulele Jam & Open Mic - w/Steve Kritzer
DESCRIPTION:Come join Steve Kritzer\, singer-songwriter\, multi-instrumentalist and popular ukulele teacher for our  \n\n\n\nRelax on the garden patio in an informal friendly setting\, nestled among oak trees in the Livermore hills. The only requirement is a ukulele and knowledge of a few basic chords or just come to listen and sing along. Music includes everything from Tin Pan Alley to Classic Rock\, to favorite pop songs\, Hawaiian and more. An Open Mic session will give those with more expertise a chance to strut their stuff! \n\n\n\nPack a picnic lunch and join us on the patio! \n\n\n\nReservations are not required! \n\n\n\nClick here for 2026 Part 1 Songbook \n\n\n\nClick here for 2026 Part 2 Songbook \n\n\n\nClick here for the 2025 Supplement Song List
URL:https://charlesrwinery.com/event/ukulele-jam-open-mic-w-steve-kritzer-14/
ATTACH;FMTTYPE=image/jpeg:https://charlesrwinery.com/wp-content/uploads/2026/03/Ukulele-Jam-and-Open-Mic.jpg
END:VEVENT
BEGIN:VEVENT
DTSTART;TZID=America/Los_Angeles:20260711T120000
DTEND;TZID=America/Los_Angeles:20260711T163000
DTSTAMP:20260423T041539
CREATED:20260412T152639Z
LAST-MODIFIED:20260412T152643Z
UID:3905-1783771200-1783787400@charlesrwinery.com
SUMMARY:Karaoke Saturday!
DESCRIPTION:Get ready to unleash your inner rock star at Karaoke Saturday! Doors swing open at noon. Rally your pals and prepare for a day packed with epic sing-alongs! And let’s be honest\, a glass of wine is the perfect sidekick for those high notes! No need to book a spot; just waltz in and let the fun begin!
URL:https://charlesrwinery.com/event/karaoke-saturday-11/
ATTACH;FMTTYPE=image/png:https://charlesrwinery.com/wp-content/uploads/2025/04/karaokesaturday.png
END:VEVENT
BEGIN:VEVENT
DTSTART;TZID=America/Los_Angeles:20260801T130000
DTEND;TZID=America/Los_Angeles:20260801T160000
DTSTAMP:20260423T041539
CREATED:20260412T152025Z
LAST-MODIFIED:20260412T152030Z
UID:3893-1785589200-1785600000@charlesrwinery.com
SUMMARY:Ukulele Jam & Open Mic - w/Steve Kritzer
DESCRIPTION:Come join Steve Kritzer\, singer-songwriter\, multi-instrumentalist and popular ukulele teacher for our  \n\n\n\nRelax on the garden patio in an informal friendly setting\, nestled among oak trees in the Livermore hills. The only requirement is a ukulele and knowledge of a few basic chords or just come to listen and sing along. Music includes everything from Tin Pan Alley to Classic Rock\, to favorite pop songs\, Hawaiian and more. An Open Mic session will give those with more expertise a chance to strut their stuff! \n\n\n\nPack a picnic lunch and join us on the patio! \n\n\n\nReservations are not required! \n\n\n\nClick here for 2026 Part 1 Songbook \n\n\n\nClick here for 2026 Part 2 Songbook \n\n\n\nClick here for the 2025 Supplement Song List
URL:https://charlesrwinery.com/event/ukulele-jam-open-mic-w-steve-kritzer-15/
ATTACH;FMTTYPE=image/jpeg:https://charlesrwinery.com/wp-content/uploads/2026/03/Ukulele-Jam-and-Open-Mic.jpg
END:VEVENT
BEGIN:VEVENT
DTSTART;TZID=America/Los_Angeles:20260808T120000
DTEND;TZID=America/Los_Angeles:20260808T163000
DTSTAMP:20260423T041539
CREATED:20260412T152721Z
LAST-MODIFIED:20260412T152725Z
UID:3907-1786190400-1786206600@charlesrwinery.com
SUMMARY:Karaoke Saturday!
DESCRIPTION:Get ready to unleash your inner rock star at Karaoke Saturday! Doors swing open at noon. Rally your pals and prepare for a day packed with epic sing-alongs! And let’s be honest\, a glass of wine is the perfect sidekick for those high notes! No need to book a spot; just waltz in and let the fun begin!
URL:https://charlesrwinery.com/event/karaoke-saturday-12/
ATTACH;FMTTYPE=image/png:https://charlesrwinery.com/wp-content/uploads/2025/04/karaokesaturday.png
END:VEVENT
BEGIN:VEVENT
DTSTART;TZID=America/Los_Angeles:20260905T130000
DTEND;TZID=America/Los_Angeles:20260905T160000
DTSTAMP:20260423T041539
CREATED:20260412T152104Z
LAST-MODIFIED:20260412T152109Z
UID:3895-1788613200-1788624000@charlesrwinery.com
SUMMARY:Ukulele Jam & Open Mic - w/Steve Kritzer
DESCRIPTION:Come join Steve Kritzer\, singer-songwriter\, multi-instrumentalist and popular ukulele teacher for our  \n\n\n\nRelax on the garden patio in an informal friendly setting\, nestled among oak trees in the Livermore hills. The only requirement is a ukulele and knowledge of a few basic chords or just come to listen and sing along. Music includes everything from Tin Pan Alley to Classic Rock\, to favorite pop songs\, Hawaiian and more. An Open Mic session will give those with more expertise a chance to strut their stuff! \n\n\n\nPack a picnic lunch and join us on the patio! \n\n\n\nReservations are not required! \n\n\n\nClick here for 2026 Part 1 Songbook \n\n\n\nClick here for 2026 Part 2 Songbook \n\n\n\nClick here for the 2025 Supplement Song List
URL:https://charlesrwinery.com/event/ukulele-jam-open-mic-w-steve-kritzer-16/
ATTACH;FMTTYPE=image/jpeg:https://charlesrwinery.com/wp-content/uploads/2026/03/Ukulele-Jam-and-Open-Mic.jpg
END:VEVENT
BEGIN:VEVENT
DTSTART;TZID=America/Los_Angeles:20260912T120000
DTEND;TZID=America/Los_Angeles:20260912T163000
DTSTAMP:20260423T041539
CREATED:20260412T152813Z
LAST-MODIFIED:20260412T152817Z
UID:3909-1789214400-1789230600@charlesrwinery.com
SUMMARY:Karaoke Saturday!
DESCRIPTION:Get ready to unleash your inner rock star at Karaoke Saturday! Doors swing open at noon. Rally your pals and prepare for a day packed with epic sing-alongs! And let’s be honest\, a glass of wine is the perfect sidekick for those high notes! No need to book a spot; just waltz in and let the fun begin!
URL:https://charlesrwinery.com/event/karaoke-saturday-13/
ATTACH;FMTTYPE=image/png:https://charlesrwinery.com/wp-content/uploads/2025/04/karaokesaturday.png
END:VEVENT
BEGIN:VEVENT
DTSTART;TZID=America/Los_Angeles:20261003T130000
DTEND;TZID=America/Los_Angeles:20261003T160000
DTSTAMP:20260423T041539
CREATED:20260412T152147Z
LAST-MODIFIED:20260412T152151Z
UID:3897-1791032400-1791043200@charlesrwinery.com
SUMMARY:Ukulele Jam & Open Mic - w/Steve Kritzer
DESCRIPTION:Come join Steve Kritzer\, singer-songwriter\, multi-instrumentalist and popular ukulele teacher for our  \n\n\n\nRelax on the garden patio in an informal friendly setting\, nestled among oak trees in the Livermore hills. The only requirement is a ukulele and knowledge of a few basic chords or just come to listen and sing along. Music includes everything from Tin Pan Alley to Classic Rock\, to favorite pop songs\, Hawaiian and more. An Open Mic session will give those with more expertise a chance to strut their stuff! \n\n\n\nPack a picnic lunch and join us on the patio! \n\n\n\nReservations are not required! \n\n\n\nClick here for 2026 Part 1 Songbook \n\n\n\nClick here for 2026 Part 2 Songbook \n\n\n\nClick here for the 2025 Supplement Song List
URL:https://charlesrwinery.com/event/ukulele-jam-open-mic-w-steve-kritzer-17/
ATTACH;FMTTYPE=image/jpeg:https://charlesrwinery.com/wp-content/uploads/2026/03/Ukulele-Jam-and-Open-Mic.jpg
END:VEVENT
BEGIN:VEVENT
DTSTART;TZID=America/Los_Angeles:20261010T120000
DTEND;TZID=America/Los_Angeles:20261010T163000
DTSTAMP:20260423T041539
CREATED:20260412T152851Z
LAST-MODIFIED:20260412T152855Z
UID:3911-1791633600-1791649800@charlesrwinery.com
SUMMARY:Karaoke Saturday!
DESCRIPTION:Get ready to unleash your inner rock star at Karaoke Saturday! Doors swing open at noon. Rally your pals and prepare for a day packed with epic sing-alongs! And let’s be honest\, a glass of wine is the perfect sidekick for those high notes! No need to book a spot; just waltz in and let the fun begin!
URL:https://charlesrwinery.com/event/karaoke-saturday-14/
ATTACH;FMTTYPE=image/png:https://charlesrwinery.com/wp-content/uploads/2025/04/karaokesaturday.png
END:VEVENT
BEGIN:VEVENT
DTSTART;TZID=America/Los_Angeles:20261114T120000
DTEND;TZID=America/Los_Angeles:20261114T163000
DTSTAMP:20260423T041539
CREATED:20260412T152937Z
LAST-MODIFIED:20260412T152941Z
UID:3913-1794657600-1794673800@charlesrwinery.com
SUMMARY:Karaoke Saturday!
DESCRIPTION:Get ready to unleash your inner rock star at Karaoke Saturday! Doors swing open at noon. Rally your pals and prepare for a day packed with epic sing-alongs! And let’s be honest\, a glass of wine is the perfect sidekick for those high notes! No need to book a spot; just waltz in and let the fun begin!
URL:https://charlesrwinery.com/event/karaoke-saturday-15/
ATTACH;FMTTYPE=image/png:https://charlesrwinery.com/wp-content/uploads/2025/04/karaokesaturday.png
END:VEVENT
BEGIN:VEVENT
DTSTART;TZID=America/Los_Angeles:20261212T120000
DTEND;TZID=America/Los_Angeles:20261212T163000
DTSTAMP:20260423T041539
CREATED:20260412T153017Z
LAST-MODIFIED:20260412T153021Z
UID:3915-1797076800-1797093000@charlesrwinery.com
SUMMARY:Karaoke Saturday!
DESCRIPTION:Get ready to unleash your inner rock star at Karaoke Saturday! Doors swing open at noon. Rally your pals and prepare for a day packed with epic sing-alongs! And let’s be honest\, a glass of wine is the perfect sidekick for those high notes! No need to book a spot; just waltz in and let the fun begin!
URL:https://charlesrwinery.com/event/karaoke-saturday-16/
ATTACH;FMTTYPE=image/png:https://charlesrwinery.com/wp-content/uploads/2025/04/karaokesaturday.png
END:VEVENT
END:VCALENDAR