BEGIN:VCALENDAR
VERSION:2.0
PRODID:-//Charles R Vineyards - ECPv6.15.20//NONSGML v1.0//EN
CALSCALE:GREGORIAN
METHOD:PUBLISH
X-WR-CALNAME:Charles R Vineyards
X-ORIGINAL-URL:https://charlesrwinery.com
X-WR-CALDESC:Events for Charles R Vineyards
REFRESH-INTERVAL;VALUE=DURATION:PT1H
X-Robots-Tag:noindex
X-PUBLISHED-TTL:PT1H
BEGIN:VTIMEZONE
TZID:America/Los_Angeles
BEGIN:DAYLIGHT
TZOFFSETFROM:-0800
TZOFFSETTO:-0700
TZNAME:PDT
DTSTART:20200308T100000
END:DAYLIGHT
BEGIN:STANDARD
TZOFFSETFROM:-0700
TZOFFSETTO:-0800
TZNAME:PST
DTSTART:20201101T090000
END:STANDARD
BEGIN:DAYLIGHT
TZOFFSETFROM:-0800
TZOFFSETTO:-0700
TZNAME:PDT
DTSTART:20210314T100000
END:DAYLIGHT
BEGIN:STANDARD
TZOFFSETFROM:-0700
TZOFFSETTO:-0800
TZNAME:PST
DTSTART:20211107T090000
END:STANDARD
BEGIN:DAYLIGHT
TZOFFSETFROM:-0800
TZOFFSETTO:-0700
TZNAME:PDT
DTSTART:20220313T100000
END:DAYLIGHT
BEGIN:STANDARD
TZOFFSETFROM:-0700
TZOFFSETTO:-0800
TZNAME:PST
DTSTART:20221106T090000
END:STANDARD
END:VTIMEZONE
BEGIN:VEVENT
DTSTART;TZID=America/Los_Angeles:20211015T120000
DTEND;TZID=America/Los_Angeles:20211015T163000
DTSTAMP:20260425T083010
CREATED:20210506T225306Z
LAST-MODIFIED:20211011T180307Z
UID:2055-1634299200-1634315400@charlesrwinery.com
SUMMARY:Pride Friday with the Winemaker
DESCRIPTION:Livermore PrideFest is back\, Saturday October 16th\, and Charles R Winery is proud to be part of the celebration!    \n\n\n\nTo kick off the weekend\, our winemaker Lisa will be in the tasting room Friday\, October 15th and would love to share some wine with you. \n\n\n\nCheck in at the winery with your Pride Passport throughout the month of October and become an honorary member of the Charles R family. You’ll get to take advantage of member-only discounts and deals on all wine purchases.  \n\n\n\nFor all of the Livermore Pride details visit www.livermorepride.org. \n\n\n\nWalk-ins welcome\, reservations accepted at www.charlesrwinery.com. \n\n\n\nLisa Lee Winemaker Charles R Vineyards
URL:https://charlesrwinery.com/event/new-fridays-with-the-winemaker/
ATTACH;FMTTYPE=image/jpeg:https://charlesrwinery.com/wp-content/uploads/2021/10/Lisa-Pride-Fest-rotated.jpg
END:VEVENT
BEGIN:VEVENT
DTSTART;TZID=America/Los_Angeles:20211005T120000
DTEND;TZID=America/Los_Angeles:20211005T163000
DTSTAMP:20260425T083010
CREATED:20210531T190031Z
LAST-MODIFIED:20211104T163209Z
UID:2166-1633435200-1633451400@charlesrwinery.com
SUMMARY:Sangria Sunday!
DESCRIPTION:Come by and see Winemaker and Mixologist Lisa Lee in the Charles R tasting room Sunday\, November 7th for our first Sangria Sunday! She will be mixing up a holiday inspired cocktail with our Port\, and you can take home the recipe for your celebrations. \n\n\n\nReservations recommended\, walk-ins welcome at www.charlesrwinery.com. \n\n\n\nLisa’s Sangria
URL:https://charlesrwinery.com/event/fridays-with-the-winemaker-3/
ATTACH;FMTTYPE=image/jpeg:https://charlesrwinery.com/wp-content/uploads/2021/10/Sangria.jpg
END:VEVENT
BEGIN:VEVENT
DTSTART;TZID=America/Los_Angeles:20210723T120000
DTEND;TZID=America/Los_Angeles:20210723T163000
DTSTAMP:20260425T083010
CREATED:20210506T225740Z
LAST-MODIFIED:20210708T094400Z
UID:2064-1627041600-1627057800@charlesrwinery.com
SUMMARY:Fridays with the Winemaker
DESCRIPTION:Do you like Fridays? And wine? And enjoying wine on Fridays? Ever wanted to know the stories behind our wines? Have questions about the production process? Or have you felt like geeking out about wine\, but didn’t know where to turn? \n\n\n\nCome by and see me in the Charles R tasting room on Fridays\, beginning May 7th! We can talk as much or as little about wine as you like\, I look forward to seeing you soon! Lisa Lee\, Winemaker \n\n\n\nWalk-ins welcome\, reservations accepted at www.charlesrwinery.com.
URL:https://charlesrwinery.com/event/fridays-with-the-winemaker-2/
ATTACH;FMTTYPE=image/png:https://charlesrwinery.com/wp-content/uploads/2021/07/Lisa-Lee-Rose.png
END:VEVENT
BEGIN:VEVENT
DTSTART;TZID=America/Los_Angeles:20210620T120000
DTEND;TZID=America/Los_Angeles:20210620T163000
DTSTAMP:20260425T083010
CREATED:20210609T185056Z
LAST-MODIFIED:20210609T185107Z
UID:2203-1624190400-1624206600@charlesrwinery.com
SUMMARY:Father's Day Dart Board Discounts!
DESCRIPTION:Bring your Dad and the family out to our garden patio for live music with Michael Russell\, Dart Board discounts\, games and lawn boules fun\, and of course his favorite Charles R wines.  \n\n\n\nReservations recommended\, walk-ins welcome. Click here to make your reservation today.  \n\n\n\n\n\n\n\nAs a guitarist\, singer\, and songwriter based out of Northern California and Nashville Tennessee\, Michael Russell is a performing and recording artist showcasing original blues\, roots rock’n’roll\, and hints of alt-country. \n\n\n\nMichael Russell’s stone cold blues guitar licks\, old school rock ‘n’ roll energy\, and timeless songwriting style make him and the Michael Russell Trio a refreshing addition to the modern blues and roots rock scene.  \n\n\n\nhttps://www.michaelrussellmusic.com/
URL:https://charlesrwinery.com/event/fathers-day-dart-board-discounts/
ATTACH;FMTTYPE=image/jpeg:https://charlesrwinery.com/wp-content/uploads/2021/06/DSCN0491.jpg
END:VEVENT
BEGIN:VEVENT
DTSTART;TZID=America/Los_Angeles:20210528T180000
DTEND;TZID=America/Los_Angeles:20210528T210000
DTSTAMP:20260425T083010
CREATED:20210506T233622Z
LAST-MODIFIED:20210507T005612Z
UID:2084-1622224800-1622235600@charlesrwinery.com
SUMMARY:Fourth Fridays Summer Concert Series
DESCRIPTION:Round up your posse\, pack up your picnic and head to Charles R for our Fourth Friday Summer Concert\, featuring the award-winning music of Fred McCarty\, solo guitarist and vocalist. Wine-down with a glass\, bottle or flight of your favorite Charles R wine to pair with your picnic on our garden patio. Fred is a musician’s musician. He has composed well in excess of three hundred songs and compositions. Walk-ins welcome\, Reservations are accepted.
URL:https://charlesrwinery.com/event/fourth-fridays-summer-concert-series/
ATTACH;FMTTYPE=image/jpeg:https://charlesrwinery.com/wp-content/uploads/2021/05/Fred-McCarty.jpg
END:VEVENT
BEGIN:VEVENT
DTSTART;TZID=America/Los_Angeles:20210509T120000
DTEND;TZID=America/Los_Angeles:20210509T163000
DTSTAMP:20260425T083010
CREATED:20210506T231836Z
LAST-MODIFIED:20210507T000022Z
UID:2068-1620561600-1620577800@charlesrwinery.com
SUMMARY:Making Memories on Mother's Day
DESCRIPTION:This Mother’s Day we have a red rose for Mom (come early\, limited supply)\, her favorite wine and we’ll sweeten her day with dessert! Bring a picnic\, relax on our garden patio with live music from Jeff Ricketts solo\, and make new memories with Mom at Charles R Vineyards! Walk-ins welcome\, reservations recommended\, Click here for reservations.
URL:https://charlesrwinery.com/event/making-memories-on-mothers-day/
ATTACH;FMTTYPE=image/jpeg:https://charlesrwinery.com/wp-content/uploads/2021/05/Group-Wine-Tasting-on-the-Garden-Patio.jpg
END:VEVENT
BEGIN:VEVENT
DTSTART;TZID=America/Los_Angeles:20210501T120000
DTEND;TZID=America/Los_Angeles:20210501T163000
DTSTAMP:20260425T083010
CREATED:20210428T022931Z
LAST-MODIFIED:20210428T022939Z
UID:2029-1619870400-1619886600@charlesrwinery.com
SUMMARY:Grand Reopening!
DESCRIPTION:Join us on our beautiful garden patio this weekend for our Grand Reopening Saturday\, May 1st. Kick back and enjoy live music with Steve Kritzer. a complimentary slice of celebratory cake and the opportunity to win an amazing Charles R Gift Basket. Purchase a delectable Charcuterie Box from The Board Room to enjoy with your wine\, or pack up a picnic. \n\n\n\nCharcuterie Box – Just for YouEach box is made uniquely and includes 2 cheeses\, 1 meat\, fruit\, olives\, honey/jam\, and nuts\, fresh herb and flower garnish and a little something sweet from The Board Room. Individual serving size\, 6.5“x 4.5”x 1.5”. $19 per box. Please pre-order your box with your reservation. \n\n\n\nReservations are recommended\, your $10 per person reservation fee applied to purchase\, per person. Seatings are at Noon and 2:30 p.m.\, walk-ins welcome. Wine by the glass\, flight or bottle will be served. Club Members enjoy complimentary wine tasting for up to four people. \n\n\n\n\n\n\n\n\n\n\nJoin us on our beautiful garden patio this weekend for our Grand Reopening Saturday\, May 1st. Kick back and enjoy live music with Steve Kritzer. a complimentary slice of celebratory cake and the opportunity to win an amazing Charles R Gift Basket. Purchase a delectable Charcuterie Box from The Board Room to enjoy with your wine\, or pack up a picnic. \n\n\n\nCharcuterie Box – Just for YouEach box is made uniquely and includes 2 cheeses\, 1 meat\, fruit\, olives\, honey/jam\, and nuts\, fresh herb and flower garnish and a little something sweet from The Board Room. Individual serving size\, 6.5“x 4.5”x 1.5”. $19 per box. Please pre-order your box with your reservation. \n\n\n\nReservations are recommended\, your $10 per person reservation fee applied to purchase\, per person. Seatings are at Noon and 2:30 p.m.\, walk-ins welcome. Wine by the glass\, flight or bottle will be served. Club Members enjoy complimentary wine tasting for up to four people. \n\n\n\n\n\n\n\n\n\n\nJoin us on our beautiful garden patio this weekend for our Grand Reopening Saturday\, May 1st. Kick back and enjoy live music with Steve Kritzer. a complimentary slice of celebratory cake and the opportunity to win an amazing Charles R Gift Basket. Purchase a delectable Charcuterie Box from The Board Room to enjoy with your wine\, or pack up a picnic. \n\n\n\nCharcuterie Box – Just for YouEach box is made uniquely and includes 2 cheeses\, 1 meat\, fruit\, olives\, honey/jam\, and nuts\, fresh herb and flower garnish and a little something sweet from The Board Room. Individual serving size\, 6.5“x 4.5”x 1.5”. $19 per box. Please pre-order your box with your reservation. \n\n\n\nReservations are recommended\, your $10 per person reservation fee applied to purchase\, per person. Seatings are at Noon and 2:30 p.m.\, walk-ins welcome. Wine by the glass\, flight or bottle will be served. Club Members enjoy complimentary wine tasting for up to four people.
URL:https://charlesrwinery.com/event/grand-reopening/
END:VEVENT
BEGIN:VEVENT
DTSTART;TZID=America/Los_Angeles:20210430T170000
DTEND;TZID=America/Los_Angeles:20210430T180000
DTSTAMP:20260425T083010
CREATED:20210423T181915Z
LAST-MODIFIED:20210423T181923Z
UID:1990-1619802000-1619805600@charlesrwinery.com
SUMMARY:Wine of the Month Happy Hour! Zoom with Lisa
DESCRIPTION:At the end of the month\, be sure to grab a bottle of 2019 Sauvignon Blanc and join winemaker Lisa Lee on Zoom for a sensory wrap up. We’ll explore the characteristics of our Bobcat Red blend\, recommend food pairings\, discuss recipes\, and share behind-the-scenes stories. \n\n\n\nShop online or call Dick at 925-337-3315 for your bottle (or case!) of Sauvignon Blanc. \n\n\n\nJoin the Zoom Meetinghttps://us02web.zoom.us/j/83358596231?pwd=SE1jdDJNRU82bkNyY1hnVGJEc2R3UT09 \n\n\n\nMeeting ID: 833 5859 6231Passcode: 8195
URL:https://charlesrwinery.com/event/wine-of-the-month-happy-hour-zoom-with-lisa-4/
END:VEVENT
BEGIN:VEVENT
DTSTART;TZID=America/Los_Angeles:20210326T170000
DTEND;TZID=America/Los_Angeles:20210326T180000
DTSTAMP:20260425T083010
CREATED:20210323T160336Z
LAST-MODIFIED:20210323T160341Z
UID:1891-1616778000-1616781600@charlesrwinery.com
SUMMARY:Wine of the Month Happy Hour! Zoom with Lisa
DESCRIPTION:At the end of the month\, be sure to grab a bottle of 2017 Bobcat Red and join winemaker Lisa Lee on Zoom for a sensory wrap up. We’ll explore the characteristics of our Bobcat Red blend\, recommend food pairings\, discuss recipes\, and share behind-the-scenes stories. \n\n\n\nShop online or call Dick at 925-337-3315 for your bottle (or case!) of Bobcat Red. \n\n\n\nJoin the Zoom Meetinghttps://us02web.zoom.us/j/85441363211?pwd=d1B2aTRaT3Q2enRnWUlXd0NtaFBXUT09 \n\n\n\nMeeting ID: 854 4136 3211Passcode: 8195Zoom Happy Hour With Lisa
URL:https://charlesrwinery.com/event/wine-of-the-month-happy-hour-zoom-with-lisa-3/
END:VEVENT
BEGIN:VEVENT
DTSTART;TZID=America/Los_Angeles:20210326T170000
DTEND;TZID=America/Los_Angeles:20210326T180000
DTSTAMP:20260425T083010
CREATED:20210310T010806Z
LAST-MODIFIED:20210310T183651Z
UID:1826-1616778000-1616781600@charlesrwinery.com
SUMMARY:Wine of the Month Happy Hour! Zoom with Lisa
DESCRIPTION:At the end of the month\, be sure to grab a bottle of 2017 Bobcat Red and join winemaker Lisa Lee on Zoom for a sensory wrap up. We’ll explore the characteristics of our Bobcat Red blend\, recommend food pairings\, discuss recipes\, and share behind-the-scenes stories. \n\n\n\nJoin the Zoom Meetinghttps://us02web.zoom.us/j/85441363211?pwd=d1B2aTRaT3Q2enRnWUlXd0NtaFBXUT09 \n\n\n\nMeeting ID: 854 4136 3211Passcode: 8195
URL:https://charlesrwinery.com/event/wine-of-the-month-happy-hour-zoom-with-lisa-2/
END:VEVENT
END:VCALENDAR