BEGIN:VCALENDAR
VERSION:2.0
PRODID:-//Charles R Vineyards - ECPv6.15.20//NONSGML v1.0//EN
CALSCALE:GREGORIAN
METHOD:PUBLISH
X-WR-CALNAME:Charles R Vineyards
X-ORIGINAL-URL:https://charlesrwinery.com
X-WR-CALDESC:Events for Charles R Vineyards
REFRESH-INTERVAL;VALUE=DURATION:PT1H
X-Robots-Tag:noindex
X-PUBLISHED-TTL:PT1H
BEGIN:VTIMEZONE
TZID:America/Los_Angeles
BEGIN:DAYLIGHT
TZOFFSETFROM:-0800
TZOFFSETTO:-0700
TZNAME:PDT
DTSTART:20230312T100000
END:DAYLIGHT
BEGIN:STANDARD
TZOFFSETFROM:-0700
TZOFFSETTO:-0800
TZNAME:PST
DTSTART:20231105T090000
END:STANDARD
BEGIN:DAYLIGHT
TZOFFSETFROM:-0800
TZOFFSETTO:-0700
TZNAME:PDT
DTSTART:20240310T100000
END:DAYLIGHT
BEGIN:STANDARD
TZOFFSETFROM:-0700
TZOFFSETTO:-0800
TZNAME:PST
DTSTART:20241103T090000
END:STANDARD
BEGIN:DAYLIGHT
TZOFFSETFROM:-0800
TZOFFSETTO:-0700
TZNAME:PDT
DTSTART:20250309T100000
END:DAYLIGHT
BEGIN:STANDARD
TZOFFSETFROM:-0700
TZOFFSETTO:-0800
TZNAME:PST
DTSTART:20251102T090000
END:STANDARD
END:VTIMEZONE
BEGIN:VEVENT
DTSTART;TZID=America/Los_Angeles:20241116T120000
DTEND;TZID=America/Los_Angeles:20241116T163000
DTSTAMP:20260423T170622
CREATED:20240412T045907Z
LAST-MODIFIED:20240413T043945Z
UID:3297-1731758400-1731774600@charlesrwinery.com
SUMMARY:Quarterly Wine Club Release Party
DESCRIPTION:Get ready to uncork some fun at our Quarterly Wine Club Release Party! Whether you’re a long-time club member or a newbie to the wine scene\, this event is for you! Join us for an evening filled with delicious food\, great music\, and the perfect country setting to unwind and sip on some fantastic wines. No need to stress about reservations\, just come on over and snag a seat wherever you’d like! Let’s raise a glass and make some memories together! \n\n\n\nFood by Marty’s Joint
URL:https://charlesrwinery.com/event/quarterly-wine-club-release-party-3/
ATTACH;FMTTYPE=image/png:https://charlesrwinery.com/wp-content/uploads/2024/04/Club-Release.png
END:VEVENT
BEGIN:VEVENT
DTSTART;TZID=America/Los_Angeles:20241026T103000
DTEND;TZID=America/Los_Angeles:20241026T133000
DTSTAMP:20260423T170622
CREATED:20241002T152726Z
LAST-MODIFIED:20241002T152726Z
UID:3515-1729938600-1729949400@charlesrwinery.com
SUMMARY:Hilltop Hike and Brunch with Bruce
DESCRIPTION:Join Bruce for a morning hike up the hill. We will enjoy light brunch and Mimosas while experiencing a 360 degree view of the valley! \n\n\n\nExperience the whole of Livermore Valley from a totally different perspective\, the top of the hill at Charles R. The view from the top never disappoints – no matter the weather\, the temperature\, the steepness or the wind factor – this special place is simply beautiful. \n\n\n\n Bonnie has been generous enough to share this little-known part of the property with us\, and we are excited to share the space with those willing to make the trek. Mileage: 2 mile (round trip)\, Elevation: 300ft\, Difficulty: Intermediate \n\n\n\nReservations Required\, Limited Space: $25 Club Members\, $35 Public \n\n\n\n\nReservation
URL:https://charlesrwinery.com/event/hilltop-hike-and-brunch-with-bruce-6/
ATTACH;FMTTYPE=image/jpeg:https://charlesrwinery.com/wp-content/uploads/2022/07/Hike-and-Wine-Tasting-with-Bruce-edited.jpeg
END:VEVENT
BEGIN:VEVENT
DTSTART;TZID=America/Los_Angeles:20241012T140000
DTEND;TZID=America/Los_Angeles:20241012T150000
DTSTAMP:20260423T170622
CREATED:20241003T155207Z
LAST-MODIFIED:20241003T155207Z
UID:3517-1728741600-1728745200@charlesrwinery.com
SUMMARY:Danube Cruise Informational Meeting
DESCRIPTION:
URL:https://charlesrwinery.com/event/danube-cruise-informational-meeting/
ATTACH;FMTTYPE=image/png:https://charlesrwinery.com/wp-content/uploads/2024/04/thankyou.png
END:VEVENT
BEGIN:VEVENT
DTSTART;TZID=America/Los_Angeles:20241012T120000
DTEND;TZID=America/Los_Angeles:20241012T163000
DTSTAMP:20260423T170622
CREATED:20241003T160833Z
LAST-MODIFIED:20241003T160833Z
UID:3521-1728734400-1728750600@charlesrwinery.com
SUMMARY:Karaoke Saturday!
DESCRIPTION:Get ready to unleash your inner rock star at Karaoke Saturday! Doors swing open at noon\, and feel free to bring your favorite snacks to fuel your performance. Rally your pals and prepare for a day packed with epic sing-alongs! And let’s be honest\, a glass of wine is the perfect sidekick for those high notes! No need to book a spot; just waltz in and let the fun begin!
URL:https://charlesrwinery.com/event/karaoke-saturday/
ATTACH;FMTTYPE=image/png:https://charlesrwinery.com/wp-content/uploads/2024/04/Friday-at-Charles-R-Vineyards-1.png
END:VEVENT
BEGIN:VEVENT
DTSTART;TZID=America/Los_Angeles:20241005T133000
DTEND;TZID=America/Los_Angeles:20241005T163000
DTSTAMP:20260423T170622
CREATED:20240411T160929Z
LAST-MODIFIED:20240411T160934Z
UID:3263-1728135000-1728145800@charlesrwinery.com
SUMMARY:Ukulele Jam & Open Mic - w/Steve Kritzer
DESCRIPTION:Come join Steve Kritzer\, singer-songwriter\, multi-instrumentalist and popular ukulele teacher for our Last Ukulele Jam & Open Mic until next Spring. \n\n\n\nRelax on the garden patio in an informal friendly setting\, nestled among oak trees in the Livermore hills. The only requirement is a ukulele and knowledge of a few basic chords\, or just come to listen and sing along. Music includes everything from Tin Pan Alley to Classic Rock\, to favorite pop songs\, Hawaiian and more. An Open Mic session will give those with more expertise a chance to strut their stuff!Make your reservation in advance\, bring a picnic\, kids are welcome. Reservation fee for non-members is $15\, and we will credit back $5 per bottle purchased\, up to 3 bottles. \n\n\n\nClick here to make your reservation.  \n\n\n\nEmail Steve at steveonstrings@gmail.com for a PDF of the songs in advance.
URL:https://charlesrwinery.com/event/ukulele-jam-open-mic-w-steve-kritzer-6/
ATTACH;FMTTYPE=image/jpeg:https://charlesrwinery.com/wp-content/uploads/2021/05/Dueling-Ukuleles-at-Charles-R-Vineyards-rotated.jpg
END:VEVENT
BEGIN:VEVENT
DTSTART;TZID=America/Los_Angeles:20240928T103000
DTEND;TZID=America/Los_Angeles:20240928T133000
DTSTAMP:20260423T170622
CREATED:20240411T040351Z
LAST-MODIFIED:20240411T040358Z
UID:3241-1727519400-1727530200@charlesrwinery.com
SUMMARY:Hilltop Hike and Brunch with Bruce
DESCRIPTION:Join Bruce for a morning hike up the hill. We will enjoy light brunch and Mimosas while experiencing a 360 degree view of the valley! \n\n\n\nExperience the whole of Livermore Valley from a totally different perspective\, the top of the hill at Charles R. The view from the top never disappoints – no matter the weather\, the temperature\, the steepness or the wind factor – this special place is simply beautiful. \n\n\n\n Bonnie has been generous enough to share this little-known part of the property with us\, and we are excited to share the space with those willing to make the trek. Mileage: 2 mile (round trip)\, Elevation: 300ft\, Difficulty: Intermediate \n\n\n\nReservations Required\, Limited Space: $25 Club Members\, $35 Public \n\n\n\n\nReservation
URL:https://charlesrwinery.com/event/hilltop-hike-and-brunch-with-bruce-5/
ATTACH;FMTTYPE=image/jpeg:https://charlesrwinery.com/wp-content/uploads/2022/07/Hike-and-Wine-Tasting-with-Bruce-edited.jpeg
END:VEVENT
BEGIN:VEVENT
DTSTART;TZID=America/Los_Angeles:20240914T120000
DTEND;TZID=America/Los_Angeles:20240915T163000
DTSTAMP:20260423T170622
CREATED:20240413T041031Z
LAST-MODIFIED:20240413T041036Z
UID:3391-1726315200-1726417800@charlesrwinery.com
SUMMARY:Harvest Fall Boutique
DESCRIPTION:Celebrate the beginning of Fall with us.  We have invited several crafters to our garden patio for your shopping pleasure.  Grab a glass of wine and stroll the gardens and find that perfect gift.
URL:https://charlesrwinery.com/event/harvest-fall-boutique/
ATTACH;FMTTYPE=image/png:https://charlesrwinery.com/wp-content/uploads/2024/04/Harvest.png
END:VEVENT
BEGIN:VEVENT
DTSTART;TZID=America/Los_Angeles:20240907T133000
DTEND;TZID=America/Los_Angeles:20240907T163000
DTSTAMP:20260423T170622
CREATED:20240411T160823Z
LAST-MODIFIED:20240411T160831Z
UID:3261-1725715800-1725726600@charlesrwinery.com
SUMMARY:Ukulele Jam & Open Mic - w/Steve Kritzer
DESCRIPTION:Come join Steve Kritzer\, singer-songwriter\, multi-instrumentalist and popular ukulele teacher for our Last Ukulele Jam & Open Mic until next Spring. \n\n\n\nRelax on the garden patio in an informal friendly setting\, nestled among oak trees in the Livermore hills. The only requirement is a ukulele and knowledge of a few basic chords\, or just come to listen and sing along. Music includes everything from Tin Pan Alley to Classic Rock\, to favorite pop songs\, Hawaiian and more. An Open Mic session will give those with more expertise a chance to strut their stuff!Make your reservation in advance\, bring a picnic\, kids are welcome. Reservation fee for non-members is $15\, and we will credit back $5 per bottle purchased\, up to 3 bottles. \n\n\n\nClick here to make your reservation.  \n\n\n\nEmail Steve at steveonstrings@gmail.com for a PDF of the songs in advance.
URL:https://charlesrwinery.com/event/ukulele-jam-open-mic-w-steve-kritzer-5/
ATTACH;FMTTYPE=image/jpeg:https://charlesrwinery.com/wp-content/uploads/2021/05/Dueling-Ukuleles-at-Charles-R-Vineyards-rotated.jpg
END:VEVENT
BEGIN:VEVENT
DTSTART;TZID=America/Los_Angeles:20240902T120000
DTEND;TZID=America/Los_Angeles:20240902T163000
DTSTAMP:20260423T170622
CREATED:20240413T040341Z
LAST-MODIFIED:20240413T040349Z
UID:3388-1725278400-1725294600@charlesrwinery.com
SUMMARY:Open Labor Day!
DESCRIPTION:We are open labor day.
URL:https://charlesrwinery.com/event/open-labor-day/
ATTACH;FMTTYPE=image/png:https://charlesrwinery.com/wp-content/uploads/2024/04/laborday.png
END:VEVENT
BEGIN:VEVENT
DTSTART;TZID=America/Los_Angeles:20240831T120000
DTEND;TZID=America/Los_Angeles:20240831T163000
DTSTAMP:20260423T170622
CREATED:20240413T035738Z
LAST-MODIFIED:20240413T035743Z
UID:3384-1725105600-1725121800@charlesrwinery.com
SUMMARY:18th Anniversary
DESCRIPTION:Celebrate our 18th year with us
URL:https://charlesrwinery.com/event/18th-anniversary/
ATTACH;FMTTYPE=image/png:https://charlesrwinery.com/wp-content/uploads/2024/04/18-1.png
END:VEVENT
BEGIN:VEVENT
DTSTART;TZID=America/Los_Angeles:20240825T103000
DTEND;TZID=America/Los_Angeles:20240825T133000
DTSTAMP:20260423T170622
CREATED:20240411T040109Z
LAST-MODIFIED:20240716T052152Z
UID:3239-1724581800-1724592600@charlesrwinery.com
SUMMARY:Hilltop Hike and Brunch with Bruce
DESCRIPTION:Join Bruce for a morning hike up the hill. We will enjoy light brunch and Mimosas while experiencing a 360 degree view of the valley! \n\n\n\nExperience the whole of Livermore Valley from a totally different perspective\, the top of the hill at Charles R. The view from the top never disappoints – no matter the weather\, the temperature\, the steepness or the wind factor – this special place is simply beautiful. \n\n\n\n Bonnie has been generous enough to share this little-known part of the property with us\, and we are excited to share the space with those willing to make the trek. Mileage: 2 mile (round trip)\, Elevation: 300ft\, Difficulty: Intermediate \n\n\n\nReservations Required\, Limited Space: $25 Club Members\, $35 Public \n\n\n\n\nReservation
URL:https://charlesrwinery.com/event/hilltop-hike-and-brunch-with-bruce-4/
ATTACH;FMTTYPE=image/jpeg:https://charlesrwinery.com/wp-content/uploads/2022/07/Hike-and-Wine-Tasting-with-Bruce-edited.jpeg
END:VEVENT
BEGIN:VEVENT
DTSTART;TZID=America/Los_Angeles:20240817T120000
DTEND;TZID=America/Los_Angeles:20240817T163000
DTSTAMP:20260423T170622
CREATED:20240412T045808Z
LAST-MODIFIED:20240413T034937Z
UID:3295-1723896000-1723912200@charlesrwinery.com
SUMMARY:Quarterly Wine Club Release Party
DESCRIPTION:Get ready to uncork some fun at our Quarterly Wine Club Release Party! Whether you’re a long-time club member or a newbie to the wine scene\, this event is for you! Join us for an evening filled with delicious food\, great music\, and the perfect country setting to unwind and sip on some fantastic wines. No need to stress about reservations\, just come on over and snag a seat wherever you’d like! Let’s raise a glass and make some memories together! \n\n\n\nFood by Big C BBQ
URL:https://charlesrwinery.com/event/quarterly-wine-club-release-party-2/
ATTACH;FMTTYPE=image/png:https://charlesrwinery.com/wp-content/uploads/2024/04/Club-Release.png
END:VEVENT
BEGIN:VEVENT
DTSTART;TZID=America/Los_Angeles:20240807T170000
DTEND;TZID=America/Los_Angeles:20240807T200000
DTSTAMP:20260423T170622
CREATED:20240411T170124Z
LAST-MODIFIED:20240724T010112Z
UID:3282-1723050000-1723060800@charlesrwinery.com
SUMMARY:Winery of the Week
DESCRIPTION:Get ready to raise your glasses because Charles R Vineyards is taking center stage as our Winery of the Week! Join us for a delightful experience at our stunning venue\, where you can savor our top-notch\, award-winning wines. Indulge in delicious food\, groove to live music\, and make unforgettable memories. No need for reservations\, just come as you are and let’s toast to good times! See you there!
URL:https://charlesrwinery.com/event/winery-of-the-week-2/
ATTACH;FMTTYPE=image/png:https://charlesrwinery.com/wp-content/uploads/2024/04/livermorevalleywineryoftheweek02-1.png
END:VEVENT
BEGIN:VEVENT
DTSTART;TZID=America/Los_Angeles:20240803T133000
DTEND;TZID=America/Los_Angeles:20240803T163000
DTSTAMP:20260423T170622
CREATED:20240411T160742Z
LAST-MODIFIED:20240411T160746Z
UID:3259-1722691800-1722702600@charlesrwinery.com
SUMMARY:Ukulele Jam & Open Mic - w/Steve Kritzer
DESCRIPTION:Come join Steve Kritzer\, singer-songwriter\, multi-instrumentalist and popular ukulele teacher for our Last Ukulele Jam & Open Mic until next Spring. \n\n\n\nRelax on the garden patio in an informal friendly setting\, nestled among oak trees in the Livermore hills. The only requirement is a ukulele and knowledge of a few basic chords\, or just come to listen and sing along. Music includes everything from Tin Pan Alley to Classic Rock\, to favorite pop songs\, Hawaiian and more. An Open Mic session will give those with more expertise a chance to strut their stuff!Make your reservation in advance\, bring a picnic\, kids are welcome. Reservation fee for non-members is $15\, and we will credit back $5 per bottle purchased\, up to 3 bottles. \n\n\n\nClick here to make your reservation.  \n\n\n\nEmail Steve at steveonstrings@gmail.com for a PDF of the songs in advance.
URL:https://charlesrwinery.com/event/ukulele-jam-open-mic-w-steve-kritzer-4/
ATTACH;FMTTYPE=image/jpeg:https://charlesrwinery.com/wp-content/uploads/2021/05/Dueling-Ukuleles-at-Charles-R-Vineyards-rotated.jpg
END:VEVENT
BEGIN:VEVENT
DTSTART;TZID=America/Los_Angeles:20240727T103000
DTEND;TZID=America/Los_Angeles:20240727T133000
DTSTAMP:20260423T170622
CREATED:20240411T035956Z
LAST-MODIFIED:20240411T040200Z
UID:3237-1722076200-1722087000@charlesrwinery.com
SUMMARY:Hilltop Hike and Brunch with Bruce
DESCRIPTION:Join Bruce for a morning hike up the hill. We will enjoy light brunch and Mimosas while experiencing a 360 degree view of the valley! \n\n\n\nExperience the whole of Livermore Valley from a totally different perspective\, the top of the hill at Charles R. The view from the top never disappoints – no matter the weather\, the temperature\, the steepness or the wind factor – this special place is simply beautiful. \n\n\n\n Bonnie has been generous enough to share this little-known part of the property with us\, and we are excited to share the space with those willing to make the trek. Mileage: 2 mile (round trip)\, Elevation: 300ft\, Difficulty: Intermediate \n\n\n\nReservations Required\, Limited Space: $25 Club Members\, $35 Public \n\n\n\n\nReservation
URL:https://charlesrwinery.com/event/hilltop-hike-and-brunch-with-bruce-3/
ATTACH;FMTTYPE=image/jpeg:https://charlesrwinery.com/wp-content/uploads/2022/07/Hike-and-Wine-Tasting-with-Bruce-edited.jpeg
END:VEVENT
BEGIN:VEVENT
DTSTART;TZID=America/Los_Angeles:20240726T173000
DTEND;TZID=America/Los_Angeles:20240726T203000
DTSTAMP:20260423T170622
CREATED:20240723T053658Z
LAST-MODIFIED:20240723T053658Z
UID:3495-1722015000-1722025800@charlesrwinery.com
SUMMARY:4th Friday Music!
DESCRIPTION:
URL:https://charlesrwinery.com/event/4th-friday-music-4/
ATTACH;FMTTYPE=image/png:https://charlesrwinery.com/wp-content/uploads/2024/04/Charle-R-Vineyards-4.png
END:VEVENT
BEGIN:VEVENT
DTSTART;TZID=America/Los_Angeles:20240713T180000
DTEND;TZID=America/Los_Angeles:20240713T210000
DTSTAMP:20260423T170622
CREATED:20240412T165316Z
LAST-MODIFIED:20240710T153237Z
UID:3363-1720893600-1720904400@charlesrwinery.com
SUMMARY:Mystery Dinner
DESCRIPTION:Step into a world of mystery and suspense at Charles R Vineyards as we present an unforgettable who done it experience. Imagine this: the mayor has been murdered during the 4th of July Parade and it’s up to you to crack the case. Join us for an evening filled with twists\, turns\, and unexpected revelations. \n\n\n\n Your ticket includes a delectable dinner paired with a glass of our finest wine. Get ready to put your detective skills to the test and immerse yourself in an evening of thrill and excitement. Club Members\, $75 per person; Public\, $85 per person. \n\n\n\nPurchase your tickets HERE.
URL:https://charlesrwinery.com/event/mystery-dinner/
ATTACH;FMTTYPE=image/jpeg:https://charlesrwinery.com/wp-content/uploads/2024/06/Copy-of-Murder-Mystery-Dinner-st-Charles-R-Vineyards.jpg
END:VEVENT
BEGIN:VEVENT
DTSTART;TZID=America/Los_Angeles:20240706T133000
DTEND;TZID=America/Los_Angeles:20240706T163000
DTSTAMP:20260423T170622
CREATED:20240411T160643Z
LAST-MODIFIED:20240411T160647Z
UID:3257-1720272600-1720283400@charlesrwinery.com
SUMMARY:Ukulele Jam & Open Mic - w/Steve Kritzer
DESCRIPTION:Come join Steve Kritzer\, singer-songwriter\, multi-instrumentalist and popular ukulele teacher for our Last Ukulele Jam & Open Mic until next Spring. \n\n\n\nRelax on the garden patio in an informal friendly setting\, nestled among oak trees in the Livermore hills. The only requirement is a ukulele and knowledge of a few basic chords\, or just come to listen and sing along. Music includes everything from Tin Pan Alley to Classic Rock\, to favorite pop songs\, Hawaiian and more. An Open Mic session will give those with more expertise a chance to strut their stuff!Make your reservation in advance\, bring a picnic\, kids are welcome. Reservation fee for non-members is $15\, and we will credit back $5 per bottle purchased\, up to 3 bottles. \n\n\n\nClick here to make your reservation.  \n\n\n\nEmail Steve at steveonstrings@gmail.com for a PDF of the songs in advance.
URL:https://charlesrwinery.com/event/ukulele-jam-open-mic-w-steve-kritzer-3/
ATTACH;FMTTYPE=image/jpeg:https://charlesrwinery.com/wp-content/uploads/2021/05/Dueling-Ukuleles-at-Charles-R-Vineyards-rotated.jpg
END:VEVENT
BEGIN:VEVENT
DTSTART;TZID=America/Los_Angeles:20240705T120000
DTEND;TZID=America/Los_Angeles:20240705T203000
DTSTAMP:20260423T170622
CREATED:20240412T164223Z
LAST-MODIFIED:20240412T164234Z
UID:3355-1720180800-1720211400@charlesrwinery.com
SUMMARY:Happy Hour Fridays!
DESCRIPTION:Un-wine-d with us at Charles R Vineyards every Friday! We’re popping bottles from noon until 8:30 PM\, with a fabulous Happy Hour from 5:00 PM to 7:00 PM – sip on 2 for 1 glasses of wine! Keep up with our exciting Friday events on social media. No need to book ahead\, just walk in and let the good times flow!
URL:https://charlesrwinery.com/event/happy-hour-fridays-11/
ATTACH;FMTTYPE=image/png:https://charlesrwinery.com/wp-content/uploads/2024/04/National-Grilled-Cheese-Day-1.png
END:VEVENT
BEGIN:VEVENT
DTSTART;TZID=America/Los_Angeles:20240628T120000
DTEND;TZID=America/Los_Angeles:20240628T203000
DTSTAMP:20260423T170622
CREATED:20240412T065113Z
LAST-MODIFIED:20240412T065119Z
UID:3334-1719576000-1719606600@charlesrwinery.com
SUMMARY:Happy Hour Fridays!
DESCRIPTION:Un-wine-d with us at Charles R Vineyards every Friday! We’re popping bottles from noon until 8:30 PM\, with a fabulous Happy Hour from 5:00 PM to 7:00 PM – sip on 2 for 1 glasses of wine! Keep up with our exciting Friday events on social media. No need to book ahead\, just walk in and let the good times flow!
URL:https://charlesrwinery.com/event/happy-hour-fridays-10/
ATTACH;FMTTYPE=image/png:https://charlesrwinery.com/wp-content/uploads/2024/04/National-Grilled-Cheese-Day-1.png
END:VEVENT
BEGIN:VEVENT
DTSTART;TZID=America/Los_Angeles:20240628T120000
DTEND;TZID=America/Los_Angeles:20240628T203000
DTSTAMP:20260423T170622
CREATED:20240411T040608Z
LAST-MODIFIED:20240411T040614Z
UID:3245-1719576000-1719606600@charlesrwinery.com
SUMMARY:4th Friday Music!
DESCRIPTION:Get ready to kick off your weekend in style at our 4th Friday Live music event! Join us as we open our doors from Noon to 8:30 for an unforgettable evening filled with fantastic tunes and delicious eats. The music starts at 5 PM\, and we’ve got a Happy Hour from 5 PM to 7 PM to keep the good vibes flowing. Be sure to keep an eye on our social media for updates on the talented musicians taking the stage and the mouth-watering food truck that will be serving up tasty treats. No reservations required – just bring your friends and your dancing shoes for a night you won’t want to miss!
URL:https://charlesrwinery.com/event/4th-friday-music-3/
ATTACH;FMTTYPE=image/png:https://charlesrwinery.com/wp-content/uploads/2024/04/Charle-R-Vineyards-4.png
END:VEVENT
BEGIN:VEVENT
DTSTART;TZID=America/Los_Angeles:20240622T103000
DTEND;TZID=America/Los_Angeles:20240622T133000
DTSTAMP:20260423T170622
CREATED:20240411T035856Z
LAST-MODIFIED:20240411T041244Z
UID:3235-1719052200-1719063000@charlesrwinery.com
SUMMARY:Hilltop Hike and Brunch with Bruce
DESCRIPTION:Join Bruce for a morning hike up the hill. We will enjoy light brunch and Mimosas while experiencing a 360 degree view of the valley! \n\n\n\nExperience the whole of Livermore Valley from a totally different perspective\, the top of the hill at Charles R. The view from the top never disappoints – no matter the weather\, the temperature\, the steepness or the wind factor – this special place is simply beautiful. \n\n\n\n Bonnie has been generous enough to share this little-known part of the property with us\, and we are excited to share the space with those willing to make the trek. Mileage: 2 mile (round trip)\, Elevation: 300ft\, Difficulty: Intermediate \n\n\n\nReservations Required\, Limited Space: $25 Club Members\, $35 Public \n\n\n\n\nReservation
URL:https://charlesrwinery.com/event/hilltop-hike-and-brunch-with-bruce-2/
ATTACH;FMTTYPE=image/jpeg:https://charlesrwinery.com/wp-content/uploads/2022/07/Hike-and-Wine-Tasting-with-Bruce-edited.jpeg
END:VEVENT
BEGIN:VEVENT
DTSTART;TZID=America/Los_Angeles:20240621T120000
DTEND;TZID=America/Los_Angeles:20240621T203000
DTSTAMP:20260423T170622
CREATED:20240412T064957Z
LAST-MODIFIED:20240412T065005Z
UID:3332-1718971200-1719001800@charlesrwinery.com
SUMMARY:Happy Hour Fridays!
DESCRIPTION:Un-wine-d with us at Charles R Vineyards every Friday! We’re popping bottles from noon until 8:30 PM\, with a fabulous Happy Hour from 5:00 PM to 7:00 PM – sip on 2 for 1 glasses of wine! Keep up with our exciting Friday events on social media. No need to book ahead\, just walk in and let the good times flow!
URL:https://charlesrwinery.com/event/happy-hour-fridays-9/
ATTACH;FMTTYPE=image/png:https://charlesrwinery.com/wp-content/uploads/2024/04/National-Grilled-Cheese-Day-1.png
END:VEVENT
BEGIN:VEVENT
DTSTART;TZID=America/Los_Angeles:20240616T120000
DTEND;TZID=America/Los_Angeles:20240616T163000
DTSTAMP:20260423T170622
CREATED:20240412T071054Z
LAST-MODIFIED:20240412T071424Z
UID:3336-1718539200-1718555400@charlesrwinery.com
SUMMARY:Father's Day
DESCRIPTION:Looking for the perfect way to celebrate Father’s Day with your dad? Look no further than Charles R Vineyards! Treat your dad to a memorable day out with a complementary port tasting and ice cream. Show your dad how much he means to you by spending quality time together in our beautiful garden patio.. Our team is dedicated to making this day special for you and your dad.
URL:https://charlesrwinery.com/event/mothers-day-2/
ATTACH;FMTTYPE=image/png:https://charlesrwinery.com/wp-content/uploads/2024/04/fathersday.png
END:VEVENT
BEGIN:VEVENT
DTSTART;TZID=America/Los_Angeles:20240614T120000
DTEND;TZID=America/Los_Angeles:20240614T203000
DTSTAMP:20260423T170622
CREATED:20240412T064842Z
LAST-MODIFIED:20240412T064848Z
UID:3330-1718366400-1718397000@charlesrwinery.com
SUMMARY:Happy Hour Fridays!
DESCRIPTION:Un-wine-d with us at Charles R Vineyards every Friday! We’re popping bottles from noon until 8:30 PM\, with a fabulous Happy Hour from 5:00 PM to 7:00 PM – sip on 2 for 1 glasses of wine! Keep up with our exciting Friday events on social media. No need to book ahead\, just walk in and let the good times flow!
URL:https://charlesrwinery.com/event/happy-hour-fridays-8/
ATTACH;FMTTYPE=image/png:https://charlesrwinery.com/wp-content/uploads/2024/04/National-Grilled-Cheese-Day-1.png
END:VEVENT
BEGIN:VEVENT
DTSTART;TZID=America/Los_Angeles:20240608T120000
DTEND;TZID=America/Los_Angeles:20240608T163000
DTSTAMP:20260423T170622
CREATED:20240412T072114Z
LAST-MODIFIED:20240412T072120Z
UID:3340-1717848000-1717864200@charlesrwinery.com
SUMMARY:National Rose Day
DESCRIPTION:
URL:https://charlesrwinery.com/event/national-rose-day/
ATTACH;FMTTYPE=image/png:https://charlesrwinery.com/wp-content/uploads/2024/04/rose.png
END:VEVENT
BEGIN:VEVENT
DTSTART;TZID=America/Los_Angeles:20240607T120000
DTEND;TZID=America/Los_Angeles:20240607T203000
DTSTAMP:20260423T170622
CREATED:20240412T064549Z
LAST-MODIFIED:20240412T064602Z
UID:3328-1717761600-1717792200@charlesrwinery.com
SUMMARY:Happy Hour Fridays!
DESCRIPTION:Un-wine-d with us at Charles R Vineyards every Friday! We’re popping bottles from noon until 8:30 PM\, with a fabulous Happy Hour from 5:00 PM to 7:00 PM – sip on 2 for 1 glasses of wine! Keep up with our exciting Friday events on social media. No need to book ahead\, just walk in and let the good times flow!
URL:https://charlesrwinery.com/event/happy-hour-fridays-7/
ATTACH;FMTTYPE=image/png:https://charlesrwinery.com/wp-content/uploads/2024/04/National-Grilled-Cheese-Day-1.png
END:VEVENT
BEGIN:VEVENT
DTSTART;TZID=America/Los_Angeles:20240601T133000
DTEND;TZID=America/Los_Angeles:20240601T163000
DTSTAMP:20260423T170622
CREATED:20240411T160545Z
LAST-MODIFIED:20240411T160553Z
UID:3255-1717248600-1717259400@charlesrwinery.com
SUMMARY:Ukulele Jam & Open Mic - w/Steve Kritzer
DESCRIPTION:Come join Steve Kritzer\, singer-songwriter\, multi-instrumentalist and popular ukulele teacher for our Last Ukulele Jam & Open Mic until next Spring. \n\n\n\nRelax on the garden patio in an informal friendly setting\, nestled among oak trees in the Livermore hills. The only requirement is a ukulele and knowledge of a few basic chords\, or just come to listen and sing along. Music includes everything from Tin Pan Alley to Classic Rock\, to favorite pop songs\, Hawaiian and more. An Open Mic session will give those with more expertise a chance to strut their stuff!Make your reservation in advance\, bring a picnic\, kids are welcome. Reservation fee for non-members is $15\, and we will credit back $5 per bottle purchased\, up to 3 bottles. \n\n\n\nClick here to make your reservation.  \n\n\n\nEmail Steve at steveonstrings@gmail.com for a PDF of the songs in advance.
URL:https://charlesrwinery.com/event/ukulele-jam-open-mic-w-steve-kritzer-2/
ATTACH;FMTTYPE=image/jpeg:https://charlesrwinery.com/wp-content/uploads/2021/05/Dueling-Ukuleles-at-Charles-R-Vineyards-rotated.jpg
END:VEVENT
BEGIN:VEVENT
DTSTART;TZID=America/Los_Angeles:20240531T120000
DTEND;TZID=America/Los_Angeles:20240531T203000
DTSTAMP:20260423T170622
CREATED:20240412T055407Z
LAST-MODIFIED:20240412T055413Z
UID:3308-1717156800-1717187400@charlesrwinery.com
SUMMARY:Happy Hour Fridays!
DESCRIPTION:Un-wine-d with us at Charles R Vineyards every Friday! We’re popping bottles from noon until 8:30 PM\, with a fabulous Happy Hour from 5:00 PM to 7:00 PM – sip on 2 for 1 glasses of wine! Keep up with our exciting Friday events on social media. No need to book ahead\, just walk in and let the good times flow!
URL:https://charlesrwinery.com/event/happy-hour-fridays-5/
ATTACH;FMTTYPE=image/png:https://charlesrwinery.com/wp-content/uploads/2024/04/National-Grilled-Cheese-Day-1.png
END:VEVENT
BEGIN:VEVENT
DTSTART;TZID=America/Los_Angeles:20240529T170000
DTEND;TZID=America/Los_Angeles:20240529T200000
DTSTAMP:20260423T170622
CREATED:20240411T165603Z
LAST-MODIFIED:20240506T213810Z
UID:3279-1717002000-1717012800@charlesrwinery.com
SUMMARY:Winery of the Week
DESCRIPTION:Get ready to raise your glasses because Charles R Vineyards is taking center stage as our Winery of the Week! Join us for a delightful experience at our stunning venue\, where you can savor our top-notch\, award-winning wines. Indulge in delicious food\, groove to live music\, and make unforgettable memories. No need for reservations\, just come as you are and let’s toast to good times! See you there! \n\n\n\nMusic by Rick Spitaleri \n\n\n\nFood my Fonseca Mexican Food Truck
URL:https://charlesrwinery.com/event/winery-of-the-week/
ATTACH;FMTTYPE=image/png:https://charlesrwinery.com/wp-content/uploads/2024/04/Wednesday.png
END:VEVENT
END:VCALENDAR