BEGIN:VCALENDAR
VERSION:2.0
PRODID:-//Charles R Vineyards - ECPv6.15.20//NONSGML v1.0//EN
CALSCALE:GREGORIAN
METHOD:PUBLISH
X-ORIGINAL-URL:https://charlesrwinery.com
X-WR-CALDESC:Events for Charles R Vineyards
REFRESH-INTERVAL;VALUE=DURATION:PT1H
X-Robots-Tag:noindex
X-PUBLISHED-TTL:PT1H
BEGIN:VTIMEZONE
TZID:America/Los_Angeles
BEGIN:DAYLIGHT
TZOFFSETFROM:-0800
TZOFFSETTO:-0700
TZNAME:PDT
DTSTART:20250309T100000
END:DAYLIGHT
BEGIN:STANDARD
TZOFFSETFROM:-0700
TZOFFSETTO:-0800
TZNAME:PST
DTSTART:20251102T090000
END:STANDARD
BEGIN:DAYLIGHT
TZOFFSETFROM:-0800
TZOFFSETTO:-0700
TZNAME:PDT
DTSTART:20260308T100000
END:DAYLIGHT
BEGIN:STANDARD
TZOFFSETFROM:-0700
TZOFFSETTO:-0800
TZNAME:PST
DTSTART:20261101T090000
END:STANDARD
BEGIN:DAYLIGHT
TZOFFSETFROM:-0800
TZOFFSETTO:-0700
TZNAME:PDT
DTSTART:20270314T100000
END:DAYLIGHT
BEGIN:STANDARD
TZOFFSETFROM:-0700
TZOFFSETTO:-0800
TZNAME:PST
DTSTART:20271107T090000
END:STANDARD
END:VTIMEZONE
BEGIN:VEVENT
DTSTART;TZID=America/Los_Angeles:20260207T120000
DTEND;TZID=America/Los_Angeles:20260207T163000
DTSTAMP:20260423T055418
CREATED:20260206T043749Z
LAST-MODIFIED:20260206T043812Z
UID:3808-1770465600-1770481800@charlesrwinery.com
SUMMARY:Karaoke Saturday!
DESCRIPTION:Get ready to unleash your inner rock star at Karaoke Saturday! Doors swing open at noon. Rally your pals and prepare for a day packed with epic sing-alongs! And let’s be honest\, a glass of wine is the perfect sidekick for those high notes! No need to book a spot; just waltz in and let the fun begin!
URL:https://charlesrwinery.com/event/karaoke-saturday-7/
ATTACH;FMTTYPE=image/png:https://charlesrwinery.com/wp-content/uploads/2025/04/karaokesaturday.png
END:VEVENT
BEGIN:VEVENT
DTSTART;TZID=America/Los_Angeles:20260214T120000
DTEND;TZID=America/Los_Angeles:20260214T163000
DTSTAMP:20260423T055418
CREATED:20260206T044228Z
LAST-MODIFIED:20260206T044232Z
UID:3810-1771070400-1771086600@charlesrwinery.com
SUMMARY:Quarterly Wine Club Release Party
DESCRIPTION:Join us for a heartwarming Valentine’s Celebration and wine club release! Enjoy toe-tapping live music and bring your appetite\, your good vibes\, and someone special—outside food is welcome. Everyone’s invited to share the love!
URL:https://charlesrwinery.com/event/quarterly-wine-club-release-party-5/
ATTACH;FMTTYPE=image/png:https://charlesrwinery.com/wp-content/uploads/2024/04/Club-Release.png
END:VEVENT
BEGIN:VEVENT
DTSTART;TZID=America/Los_Angeles:20260228T140000
DTEND;TZID=America/Los_Angeles:20260228T160000
DTSTAMP:20260423T055418
CREATED:20260114T035514Z
LAST-MODIFIED:20260227T034414Z
UID:3723-1772287200-1772294400@charlesrwinery.com
SUMMARY:Wine and Chocolate Pairing Experience
DESCRIPTION:Join us for an immersive wine and chocolate pairing experience with Bluebirds Chocolate & Charles R Vineyards. This guided class features 5 custom wine and chocolate pairings\, thoughtfully designed to showcase how flavor\, texture\, and aroma work together. For each pairing\, guests will receive two handcrafted bonbons\, allowing you to truly savor and explore each match. Along the way\, you’ll learn about the intention behind each pairing\, the art of chocolate making\, and the process that goes into creating each bonbon—from flavor development to final steps. \n\n\n\n \n\n\n\n \n\n\n\n \n\n\n\n\nPurchase Tickets Here
URL:https://charlesrwinery.com/event/wine-and-chocolate-pairing-experience/
ATTACH;FMTTYPE=image/png:https://charlesrwinery.com/wp-content/uploads/2026/01/chocolate-pairing.png
END:VEVENT
END:VCALENDAR